BEGIN:VCALENDAR
VERSION:2.0
PRODID:-//St. James Academy - ECPv6.15.18//NONSGML v1.0//EN
CALSCALE:GREGORIAN
METHOD:PUBLISH
X-WR-CALNAME:St. James Academy
X-ORIGINAL-URL:https://www.saintjamesacademy.org
X-WR-CALDESC:Events for St. James Academy
REFRESH-INTERVAL;VALUE=DURATION:PT1H
X-Robots-Tag:noindex
X-PUBLISHED-TTL:PT1H
BEGIN:VTIMEZONE
TZID:America/New_York
BEGIN:DAYLIGHT
TZOFFSETFROM:-0500
TZOFFSETTO:-0400
TZNAME:EDT
DTSTART:20250309T070000
END:DAYLIGHT
BEGIN:STANDARD
TZOFFSETFROM:-0400
TZOFFSETTO:-0500
TZNAME:EST
DTSTART:20251102T060000
END:STANDARD
BEGIN:DAYLIGHT
TZOFFSETFROM:-0500
TZOFFSETTO:-0400
TZNAME:EDT
DTSTART:20260308T070000
END:DAYLIGHT
BEGIN:STANDARD
TZOFFSETFROM:-0400
TZOFFSETTO:-0500
TZNAME:EST
DTSTART:20261101T060000
END:STANDARD
BEGIN:DAYLIGHT
TZOFFSETFROM:-0500
TZOFFSETTO:-0400
TZNAME:EDT
DTSTART:20270314T070000
END:DAYLIGHT
BEGIN:STANDARD
TZOFFSETFROM:-0400
TZOFFSETTO:-0500
TZNAME:EST
DTSTART:20271107T060000
END:STANDARD
BEGIN:DAYLIGHT
TZOFFSETFROM:-0500
TZOFFSETTO:-0400
TZNAME:EDT
DTSTART:20280312T070000
END:DAYLIGHT
BEGIN:STANDARD
TZOFFSETFROM:-0400
TZOFFSETTO:-0500
TZNAME:EST
DTSTART:20281105T060000
END:STANDARD
END:VTIMEZONE
BEGIN:VEVENT
DTSTART;TZID=America/New_York:20260923T183000
DTEND;TZID=America/New_York:20260923T200000
DTSTAMP:20260420T042417
CREATED:20260415T200706Z
LAST-MODIFIED:20260415T200706Z
UID:84725-1790188200-1790193600@www.saintjamesacademy.org
SUMMARY:HS Admissions Night
DESCRIPTION:St. James Academy is excited to host more than 20 high schools for our annual High School Fair\, giving eighth grade students and their parents the chance to connect directly with admission representatives and explore the many opportunities ahead. Each school will be represented at its own table\, where students can ask questions\, gather information\, and learn what makes each high school unique. Adding to the experience\, SJA alumni return to share their perspectives as student ambassadors. Breakout sessions will also be offered for families who want more information about the high school admission process.
URL:https://www.saintjamesacademy.org/event/hs-admissions-night/
CATEGORIES:Main
END:VEVENT
BEGIN:VEVENT
DTSTART;TZID=America/New_York:20260924T093000
DTEND;TZID=America/New_York:20260924T103000
DTSTAMP:20260420T042417
CREATED:20260415T200706Z
LAST-MODIFIED:20260415T200706Z
UID:84726-1790242200-1790245800@www.saintjamesacademy.org
SUMMARY:Prospective Parent Coffee
DESCRIPTION:
URL:https://www.saintjamesacademy.org/event/prospective-parent-coffee/
CATEGORIES:Main
END:VEVENT
BEGIN:VEVENT
DTSTART;VALUE=DATE:20261012
DTEND;VALUE=DATE:20261013
DTSTAMP:20260420T042417
CREATED:20260212T210707Z
LAST-MODIFIED:20260212T210707Z
UID:81568-1791763200-1791849599@www.saintjamesacademy.org
SUMMARY:School Closed
DESCRIPTION:
URL:https://www.saintjamesacademy.org/event/school-closed-2/
CATEGORIES:Main
END:VEVENT
BEGIN:VEVENT
DTSTART;TZID=America/New_York:20261015T093000
DTEND;TZID=America/New_York:20261015T113000
DTSTAMP:20260420T042417
CREATED:20260415T200706Z
LAST-MODIFIED:20260415T200706Z
UID:84727-1792056600-1792063800@www.saintjamesacademy.org
SUMMARY:Fall Open House
DESCRIPTION:
URL:https://www.saintjamesacademy.org/event/fall-open-house/
CATEGORIES:Main
END:VEVENT
BEGIN:VEVENT
DTSTART;VALUE=DATE:20261023
DTEND;VALUE=DATE:20261024
DTSTAMP:20260420T042417
CREATED:20260212T210707Z
LAST-MODIFIED:20260212T210707Z
UID:81569-1792713600-1792799999@www.saintjamesacademy.org
SUMMARY:School Closed - Parent Conferences
DESCRIPTION:
URL:https://www.saintjamesacademy.org/event/school-closed-parent-conferences/
CATEGORIES:Main
END:VEVENT
BEGIN:VEVENT
DTSTART;TZID=America/New_York:20261112T120000
DTEND;TZID=America/New_York:20261112T130000
DTSTAMP:20260420T042417
CREATED:20260212T210708Z
LAST-MODIFIED:20260212T210708Z
UID:81570-1794484800-1794488400@www.saintjamesacademy.org
SUMMARY:Dismissal\, Faculty Professional Development\, No After Care
DESCRIPTION:
URL:https://www.saintjamesacademy.org/event/dismissal-faculty-professional-development-no-after-care/
CATEGORIES:Main
END:VEVENT
BEGIN:VEVENT
DTSTART;VALUE=DATE:20261113
DTEND;VALUE=DATE:20261114
DTSTAMP:20260420T042417
CREATED:20260212T210708Z
LAST-MODIFIED:20260212T210708Z
UID:81571-1794528000-1794614399@www.saintjamesacademy.org
SUMMARY:School Closed for Christmas Shoppe
DESCRIPTION:
URL:https://www.saintjamesacademy.org/event/school-closed-for-christmas-shoppe/
CATEGORIES:Main
END:VEVENT
BEGIN:VEVENT
DTSTART;VALUE=DATE:20261113
DTEND;VALUE=DATE:20261115
DTSTAMP:20260420T042417
CREATED:20260212T210708Z
LAST-MODIFIED:20260212T210708Z
UID:81572-1794528000-1794700799@www.saintjamesacademy.org
SUMMARY:Christmas Shoppe
DESCRIPTION:
URL:https://www.saintjamesacademy.org/event/christmas-shoppe/
CATEGORIES:Main
END:VEVENT
BEGIN:VEVENT
DTSTART;VALUE=DATE:20261124
DTEND;VALUE=DATE:20261125
DTSTAMP:20260420T042417
CREATED:20260212T210709Z
LAST-MODIFIED:20260212T210709Z
UID:81573-1795478400-1795564799@www.saintjamesacademy.org
SUMMARY:Grandparents' Day
DESCRIPTION:
URL:https://www.saintjamesacademy.org/event/grandparents-day/
CATEGORIES:Main
END:VEVENT
BEGIN:VEVENT
DTSTART;VALUE=DATE:20261124
DTEND;VALUE=DATE:20261125
DTSTAMP:20260420T042417
CREATED:20260212T210709Z
LAST-MODIFIED:20260212T210709Z
UID:81574-1795478400-1795564799@www.saintjamesacademy.org
SUMMARY:Early Dismissal following Grandparents' Day Program
DESCRIPTION:
URL:https://www.saintjamesacademy.org/event/early-dismissal-following-grandparents-day-program/
CATEGORIES:Main
END:VEVENT
BEGIN:VEVENT
DTSTART;VALUE=DATE:20261125
DTEND;VALUE=DATE:20261128
DTSTAMP:20260420T042417
CREATED:20260212T210709Z
LAST-MODIFIED:20260212T210709Z
UID:81575-1795564800-1795823999@www.saintjamesacademy.org
SUMMARY:Thanksgiving Break
DESCRIPTION:
URL:https://www.saintjamesacademy.org/event/thanksgiving-break/
CATEGORIES:Main
END:VEVENT
BEGIN:VEVENT
DTSTART;TZID=America/New_York:20261203T093000
DTEND;TZID=America/New_York:20261203T103000
DTSTAMP:20260420T042417
CREATED:20260416T150700Z
LAST-MODIFIED:20260416T150700Z
UID:84767-1796290200-1796293800@www.saintjamesacademy.org
SUMMARY:Prospective Parent Coffee
DESCRIPTION:
URL:https://www.saintjamesacademy.org/event/prospective-parent-coffee-2/
CATEGORIES:Main
END:VEVENT
BEGIN:VEVENT
DTSTART;VALUE=DATE:20261205
DTEND;VALUE=DATE:20261206
DTSTAMP:20260420T042417
CREATED:20260212T210710Z
LAST-MODIFIED:20260212T210710Z
UID:81576-1796428800-1796515199@www.saintjamesacademy.org
SUMMARY:ISEE Testing for 8th Grade Students
DESCRIPTION:
URL:https://www.saintjamesacademy.org/event/isee-testing-for-8th-grade-students/
CATEGORIES:Main
END:VEVENT
BEGIN:VEVENT
DTSTART;TZID=America/New_York:20261218T100000
DTEND;TZID=America/New_York:20261218T120000
DTSTAMP:20260420T042417
CREATED:20260212T210710Z
LAST-MODIFIED:20260212T210710Z
UID:81577-1797588000-1797595200@www.saintjamesacademy.org
SUMMARY:Lessons and Carols\, early dismissal after the program\, No After Care
DESCRIPTION:Join us for a beautiful Lessons and Carols service\, followed by early dismissal to kick off Christmas Break.
URL:https://www.saintjamesacademy.org/event/lessons-and-carols-early-dismissal-after-the-program-no-after-care/
CATEGORIES:Main
END:VEVENT
BEGIN:VEVENT
DTSTART;VALUE=DATE:20261221
DTEND;VALUE=DATE:20270102
DTSTAMP:20260420T042417
CREATED:20260212T210710Z
LAST-MODIFIED:20260212T210710Z
UID:81578-1797811200-1798847999@www.saintjamesacademy.org
SUMMARY:School Closed - Christmas Break
DESCRIPTION:
URL:https://www.saintjamesacademy.org/event/school-closed-christmas-break/
CATEGORIES:Main
END:VEVENT
BEGIN:VEVENT
DTSTART;VALUE=DATE:20270104
DTEND;VALUE=DATE:20270105
DTSTAMP:20260420T042417
CREATED:20260212T210711Z
LAST-MODIFIED:20260212T210711Z
UID:81579-1799020800-1799107199@www.saintjamesacademy.org
SUMMARY:School Reopens
DESCRIPTION:
URL:https://www.saintjamesacademy.org/event/school-reopens/
CATEGORIES:Main
END:VEVENT
BEGIN:VEVENT
DTSTART;VALUE=DATE:20270108
DTEND;VALUE=DATE:20270109
DTSTAMP:20260420T042417
CREATED:20260416T150700Z
LAST-MODIFIED:20260416T150700Z
UID:84768-1799366400-1799452799@www.saintjamesacademy.org
SUMMARY:Application Deadline for New Students
DESCRIPTION:
URL:https://www.saintjamesacademy.org/event/application-deadline-for-new-students/
CATEGORIES:Main
END:VEVENT
BEGIN:VEVENT
DTSTART;VALUE=DATE:20270115
DTEND;VALUE=DATE:20270116
DTSTAMP:20260420T042417
CREATED:20260416T150700Z
LAST-MODIFIED:20260416T150700Z
UID:84769-1799971200-1800057599@www.saintjamesacademy.org
SUMMARY:Financial Aid Application Deadline for New Families Due
DESCRIPTION:
URL:https://www.saintjamesacademy.org/event/financial-aid-application-deadline-for-new-families-due/
CATEGORIES:Main
END:VEVENT
BEGIN:VEVENT
DTSTART;TZID=America/New_York:20270115T120000
DTEND;TZID=America/New_York:20270115T130000
DTSTAMP:20260420T042417
CREATED:20260212T210711Z
LAST-MODIFIED:20260212T210711Z
UID:81580-1800014400-1800018000@www.saintjamesacademy.org
SUMMARY:Dismissal\, Professional Development\, After Care Closes at 4 PM
DESCRIPTION:
URL:https://www.saintjamesacademy.org/event/dismissal-professional-development-after-care-closes-at-4-pm/
CATEGORIES:Main
END:VEVENT
BEGIN:VEVENT
DTSTART;VALUE=DATE:20270118
DTEND;VALUE=DATE:20270119
DTSTAMP:20260420T042417
CREATED:20260212T210712Z
LAST-MODIFIED:20260212T210712Z
UID:81581-1800230400-1800316799@www.saintjamesacademy.org
SUMMARY:School Closed
DESCRIPTION:
URL:https://www.saintjamesacademy.org/event/school-closed-3/
CATEGORIES:Main
END:VEVENT
BEGIN:VEVENT
DTSTART;TZID=America/New_York:20270212T120000
DTEND;TZID=America/New_York:20270212T130000
DTSTAMP:20260420T042417
CREATED:20260212T210712Z
LAST-MODIFIED:20260212T210712Z
UID:81582-1802433600-1802437200@www.saintjamesacademy.org
SUMMARY:Dismissal\, Professional Development\, After Care Closes at 4 PM
DESCRIPTION:
URL:https://www.saintjamesacademy.org/event/dismissal-professional-development-after-care-closes-at-4-pm-2/
CATEGORIES:Main
END:VEVENT
BEGIN:VEVENT
DTSTART;VALUE=DATE:20270215
DTEND;VALUE=DATE:20270216
DTSTAMP:20260420T042417
CREATED:20260215T000827Z
LAST-MODIFIED:20260215T000827Z
UID:81689-1802649600-1802735999@www.saintjamesacademy.org
SUMMARY:School Closed
DESCRIPTION:
URL:https://www.saintjamesacademy.org/event/school-closed-4/
CATEGORIES:Main
END:VEVENT
BEGIN:VEVENT
DTSTART;VALUE=DATE:20270218
DTEND;VALUE=DATE:20270219
DTSTAMP:20260420T042417
CREATED:20260416T150701Z
LAST-MODIFIED:20260416T150701Z
UID:84770-1802908800-1802995199@www.saintjamesacademy.org
SUMMARY:Admissions Decision and Financial Aid Notices Sent
DESCRIPTION:
URL:https://www.saintjamesacademy.org/event/admissions-decision-and-financial-aid-notices-sent/
CATEGORIES:Main
END:VEVENT
BEGIN:VEVENT
DTSTART;TZID=America/New_York:20270227T090000
DTEND;TZID=America/New_York:20270227T100000
DTSTAMP:20260420T042417
CREATED:20260416T150701Z
LAST-MODIFIED:20260416T150701Z
UID:84771-1803718800-1803722400@www.saintjamesacademy.org
SUMMARY:Accepted Student Breakfast
DESCRIPTION:
URL:https://www.saintjamesacademy.org/event/accepted-student-breakfast/
CATEGORIES:Main
END:VEVENT
BEGIN:VEVENT
DTSTART;TZID=America/New_York:20270227T110000
DTEND;TZID=America/New_York:20270227T120000
DTSTAMP:20260420T042417
CREATED:20260416T150702Z
LAST-MODIFIED:20260416T150702Z
UID:84772-1803726000-1803729600@www.saintjamesacademy.org
SUMMARY:Innovation Saturday
DESCRIPTION:
URL:https://www.saintjamesacademy.org/event/innovation-saturday/
CATEGORIES:Main
END:VEVENT
BEGIN:VEVENT
DTSTART;VALUE=DATE:20270305
DTEND;VALUE=DATE:20270306
DTSTAMP:20260420T042417
CREATED:20260305T000706Z
LAST-MODIFIED:20260305T000706Z
UID:82638-1804204800-1804291199@www.saintjamesacademy.org
SUMMARY:School Closed - Professional Development
DESCRIPTION:
URL:https://www.saintjamesacademy.org/event/school-closed-professional-development/
CATEGORIES:Main
END:VEVENT
BEGIN:VEVENT
DTSTART;VALUE=DATE:20270305
DTEND;VALUE=DATE:20270306
DTSTAMP:20260420T042417
CREATED:20260416T150702Z
LAST-MODIFIED:20260416T150702Z
UID:84773-1804204800-1804291199@www.saintjamesacademy.org
SUMMARY:Enrollment Contracts Due for New Students
DESCRIPTION:
URL:https://www.saintjamesacademy.org/event/enrollment-contracts-due-for-new-students/
CATEGORIES:Main
END:VEVENT
BEGIN:VEVENT
DTSTART;VALUE=DATE:20270315
DTEND;VALUE=DATE:20270320
DTSTAMP:20260420T042417
CREATED:20260315T000719Z
LAST-MODIFIED:20260315T000719Z
UID:83132-1805068800-1805500799@www.saintjamesacademy.org
SUMMARY:Spring Break
DESCRIPTION:
URL:https://www.saintjamesacademy.org/event/spring-break-2/
CATEGORIES:Main
END:VEVENT
BEGIN:VEVENT
DTSTART;VALUE=DATE:20270326
DTEND;VALUE=DATE:20270327
DTSTAMP:20260420T042417
CREATED:20260326T000807Z
LAST-MODIFIED:20260326T000807Z
UID:83684-1806019200-1806105599@www.saintjamesacademy.org
SUMMARY:School Closed - Good Friday
DESCRIPTION:This will be a snow day make up #2\, if necessary
URL:https://www.saintjamesacademy.org/event/school-closed-good-friday/
CATEGORIES:Main
END:VEVENT
BEGIN:VEVENT
DTSTART;VALUE=DATE:20270329
DTEND;VALUE=DATE:20270330
DTSTAMP:20260420T042417
CREATED:20260329T000750Z
LAST-MODIFIED:20260329T000750Z
UID:83833-1806278400-1806364799@www.saintjamesacademy.org
SUMMARY:School Closed - Easter Monday
DESCRIPTION:This will be a snow day make up #1\, if necessary
URL:https://www.saintjamesacademy.org/event/school-closed-easter-monday/
CATEGORIES:Main
END:VEVENT
END:VCALENDAR